BEGIN:VCALENDAR
VERSION:2.0
PRODID:-//wp-events-plugin.com//7.2.3.1//EN
TZID:America/Chicago
X-WR-TIMEZONE:America/Chicago
BEGIN:VEVENT
UID:673@canadascollectiblegames.com
DTSTART;TZID=America/Chicago:20250530T183000
DTEND;TZID=America/Chicago:20250530T220000
DTSTAMP:20250414T172446Z
URL:https://canadascollectiblegames.com/events/friday-night-magic-modern-4
 /
SUMMARY:FRIDAY NIGHT MAGIC -MODERN
DESCRIPTION:FRIDAY NIGHT MAGIC MODERN TONIGHT!  Join us at 6PM for an exci
 ting evening of MTG draft gameplay! Just $5 entry fee gets you into the ac
 tion. Build your deck and test your skills against other planeswalkers at 
 Canada's Collectible Games. Located at 33 Carriage House Dr. Suite B\, Jac
 kson\, TN 38305. Check out canadascollectiblegames.com for more events! #F
 NM #MTGDraft #MagicTheGathering
ATTACH;FMTTYPE=image/jpeg:https://canadascollectiblegames.com/wp-content/u
 ploads/2025/04/Friday-Night-Modern.png
CATEGORIES:FNM,Magic The Gathering
LOCATION:Canada's Collectible Games\, 33 Carriage House Dr Suite B\, Jackso
 n\, TN\, 38305\, United States
X-APPLE-STRUCTURED-LOCATION;VALUE=URI;X-ADDRESS=33 Carriage House Dr Suite 
 B\, Jackson\, TN\, 38305\, United States;X-APPLE-RADIUS=100;X-TITLE=Canada
 's Collectible Games:geo:0,0
END:VEVENT
BEGIN:VTIMEZONE
TZID:America/Chicago
X-LIC-LOCATION:America/Chicago
BEGIN:DAYLIGHT
DTSTART:20250309T030000
TZOFFSETFROM:-0600
TZOFFSETTO:-0500
TZNAME:CDT
END:DAYLIGHT
END:VTIMEZONE
END:VCALENDAR